BEGIN:VCALENDAR
VERSION:2.0
PRODID:-//STAGING Aktionshalle Stanzerei - ECPv5.14.2.1//NONSGML v1.0//EN
CALSCALE:GREGORIAN
METHOD:PUBLISH
X-WR-CALNAME:STAGING Aktionshalle Stanzerei
X-ORIGINAL-URL:https://staging.stanzerei-baden.ch
X-WR-CALDESC:Veranstaltungen für STAGING Aktionshalle Stanzerei
BEGIN:VTIMEZONE
TZID:Europe/Zurich
BEGIN:DAYLIGHT
TZOFFSETFROM:+0100
TZOFFSETTO:+0200
TZNAME:CEST
DTSTART:20190331T010000
END:DAYLIGHT
BEGIN:STANDARD
TZOFFSETFROM:+0200
TZOFFSETTO:+0100
TZNAME:CET
DTSTART:20191027T010000
END:STANDARD
END:VTIMEZONE
BEGIN:VEVENT
DTSTART;TZID=Europe/Zurich:20190119T200000
DTEND;TZID=Europe/Zurich:20190119T200000
DTSTAMP:20260422T123148
CREATED:20180924T135428Z
LAST-MODIFIED:20181218T122202Z
UID:4611-1547928000-1547928000@staging.stanzerei-baden.ch
SUMMARY:10. Midlife Party
DESCRIPTION:Am 19. Januar 2019 ist es wieder so weit: Unter dem Motto „Tanzen für einen guten Zweck“ findet in der Stanzerei bereits die zehnte Ausgabe der legendären Midlife-Party statt. Hierbei handelt es sich um einen jährlich stattfindenden Event mit Musik\, Tanz\, Barbetrieb und einer Lounge.  Als Organisatoren treten die beiden Rotary Clubs Wettingen und Wettingen-Heitersberg auf. \nBenefizparty zu Gunsten von: ROKJ (Rotary\, Inner Wheel und Rotaract für Kinder und Jugendliche) \nDer Reinerlös der Midlife Party geht an das Projekt ROKJ\, welches sozial und wirtschaftlich benachteiligte Kinder und Jugendliche unterstützt. Ziel ist es\, die Kinder und Jugendlichen durch die Förderung ihrer Potenziale und Talente nachhaltig in die Gesellschaft zu integrieren. Die Bereiche Schule\, Musik\, Sport\, Lager\, Mobilität\, Gesundheit und Betreuung stehen dabei im Vordergrund. Ebenfalls möglich sind individuelle Coachings\, z.B. für Stellensuchende oder Familien. Die Rotary-Clubs der Region setzen sich dafür ein und bauen aktuell eine regionale ROKJ-Organisation für Baden-Wettingen und Umgebung auf. \n  \nKonzert mit Cathy and the cool dudes\nDisco mit DJ Kili & Hartmut \n  \nWeitere Infos auf Webseite des Veranstalters: www.midlifeparty.ch\nTüröffnung ab 20.00 Uhr\, Tickets 30.-\, Ticketverkauf an der Abendkasse \n  \n          Midlife Party\, 19. Januar 2019             Midlife Party\, 19. Januar 2019
URL:https://staging.stanzerei-baden.ch/kultur/10-midlife-party
ATTACH;FMTTYPE=image/jpeg:https://staging.stanzerei-baden.ch/wp-content/uploads/2018/12/19-01-19_midlife_flyer_web.jpg
END:VEVENT
END:VCALENDAR